BEGIN:VCALENDAR
VERSION:2.0
PRODID:-//Aixia - ECPv6.15.15//NONSGML v1.0//EN
CALSCALE:GREGORIAN
METHOD:PUBLISH
X-ORIGINAL-URL:https://aixia.se
X-WR-CALDESC:Händelser för Aixia
REFRESH-INTERVAL;VALUE=DURATION:PT1H
X-Robots-Tag:noindex
X-PUBLISHED-TTL:PT1H
BEGIN:VTIMEZONE
TZID:Europe/Stockholm
BEGIN:DAYLIGHT
TZOFFSETFROM:+0100
TZOFFSETTO:+0200
TZNAME:CEST
DTSTART:20230326T010000
END:DAYLIGHT
BEGIN:STANDARD
TZOFFSETFROM:+0200
TZOFFSETTO:+0100
TZNAME:CET
DTSTART:20231029T010000
END:STANDARD
BEGIN:DAYLIGHT
TZOFFSETFROM:+0100
TZOFFSETTO:+0200
TZNAME:CEST
DTSTART:20240331T010000
END:DAYLIGHT
BEGIN:STANDARD
TZOFFSETFROM:+0200
TZOFFSETTO:+0100
TZNAME:CET
DTSTART:20241027T010000
END:STANDARD
BEGIN:DAYLIGHT
TZOFFSETFROM:+0100
TZOFFSETTO:+0200
TZNAME:CEST
DTSTART:20250330T010000
END:DAYLIGHT
BEGIN:STANDARD
TZOFFSETFROM:+0200
TZOFFSETTO:+0100
TZNAME:CET
DTSTART:20251026T010000
END:STANDARD
END:VTIMEZONE
BEGIN:VEVENT
DTSTART;VALUE=DATE:20241003
DTEND;VALUE=DATE:20241004
DTSTAMP:20260425T052227
CREATED:20240828T085529Z
LAST-MODIFIED:20240828T085529Z
UID:114210-1727913600-1727999999@aixia.se
SUMMARY:Aixia Innovation Day!
DESCRIPTION:Är du redo att utforska framtidens teknologier?\n\n\n\nPå AIXIA Innovation Day får du chansen att djupdyka in i en värld av nya IT- och AI-lösningar.\nVi samlar IT-branschens specialister och visar dig hur du kan komma igång med ditt bolags transformation.\nUpptäck de senaste innovationerna\nHämta inspiration och kunskap från ledande leverantörer inom AI och IT om hur du kan implementera dessa lösningar för att effektivisera din verksamhet. \nUtveklas tillsammans\nLär dig hur du\, tillsammans med Aixia och våra partners\, kan ta ditt företag till nästa nivå genom smarta och nytänkande strategier. \nBli Inspirerad och forma din arbetsplats\nHitta inspiration till framtida satsningar och innovationer som kan forma din organisations framtid. \n\nTalare från: \nNvidia\, Vast\, Pure Storage\, IBM\, Arista Networks\, Microsoft och många fler – uppdaterad talarlista och agenda finns på anmälningslänken nedan. \n\nLÄS MER OCH ANMÄL DIG HÄR
URL:https://aixia.se/event/aixia-innovation-day/
ATTACH;FMTTYPE=image/webp:https://aixia.se/wp-content/uploads/2024/08/unnamed-file.webp
END:VEVENT
END:VCALENDAR